BEGIN:VCALENDAR
VERSION:2.0
PRODID:-//Gemeinde Schattwald - ECPv6.0.11//NONSGML v1.0//EN
CALSCALE:GREGORIAN
METHOD:PUBLISH
X-ORIGINAL-URL:https://www.gemeinde-schattwald.at
X-WR-CALDESC:Veranstaltungen für Gemeinde Schattwald
REFRESH-INTERVAL;VALUE=DURATION:PT1H
X-Robots-Tag:noindex
X-PUBLISHED-TTL:PT1H
BEGIN:VTIMEZONE
TZID:Europe/Vienna
BEGIN:DAYLIGHT
TZOFFSETFROM:+0100
TZOFFSETTO:+0200
TZNAME:CEST
DTSTART:20230326T010000
END:DAYLIGHT
BEGIN:STANDARD
TZOFFSETFROM:+0200
TZOFFSETTO:+0100
TZNAME:CET
DTSTART:20231029T010000
END:STANDARD
END:VTIMEZONE
BEGIN:VEVENT
DTSTART;TZID=Europe/Vienna:20231016T180000
DTEND;TZID=Europe/Vienna:20231016T190000
DTSTAMP:20260424T173143
CREATED:20230502T070733Z
LAST-MODIFIED:20231009T053759Z
UID:10000186-1697479200-1697482800@www.gemeinde-schattwald.at
SUMMARY:Yoga für Teenies und Erwachsene
DESCRIPTION:
URL:https://www.gemeinde-schattwald.at/veranstaltung/yoga-fuer-teenies-und-erwachsene/2023-10-16/
LOCATION:Turnsaal Kindergarten/Volksschule\, Wies 13\, Schattwald\, 6677\, Österreich
CATEGORIES:Sport
END:VEVENT
BEGIN:VEVENT
DTSTART;TZID=Europe/Vienna:20231017T180000
DTEND;TZID=Europe/Vienna:20231017T180000
DTSTAMP:20260424T173143
CREATED:20230502T071023Z
LAST-MODIFIED:20231009T060150Z
UID:10000194-1697565600-1697565600@www.gemeinde-schattwald.at
SUMMARY:Kinder Smovey ab 9 Jahren
DESCRIPTION:
URL:https://www.gemeinde-schattwald.at/veranstaltung/kinder-smovey-ab-9-jahren/2023-10-17/
LOCATION:Turnsaal Kindergarten/Volksschule\, Wies 13\, Schattwald\, 6677\, Österreich
CATEGORIES:Sport
END:VEVENT
BEGIN:VEVENT
DTSTART;TZID=Europe/Vienna:20231017T190000
DTEND;TZID=Europe/Vienna:20231017T194500
DTSTAMP:20260424T173143
CREATED:20230502T071522Z
LAST-MODIFIED:20231009T060224Z
UID:10000084-1697569200-1697571900@www.gemeinde-schattwald.at
SUMMARY:Smovey Ganzkörpertraining
DESCRIPTION:
URL:https://www.gemeinde-schattwald.at/veranstaltung/kinder-ganzkoerpertraining/2023-10-17/
LOCATION:Turnsaal Kindergarten/Volksschule\, Wies 13\, Schattwald\, 6677\, Österreich
CATEGORIES:Sport
END:VEVENT
BEGIN:VEVENT
DTSTART;TZID=Europe/Vienna:20231018T093000
DTEND;TZID=Europe/Vienna:20231018T101500
DTSTAMP:20260424T173143
CREATED:20230502T072005Z
LAST-MODIFIED:20231009T055932Z
UID:10000108-1697621400-1697624100@www.gemeinde-schattwald.at
SUMMARY:Smovey Ganzkörpertraining
DESCRIPTION:
URL:https://www.gemeinde-schattwald.at/veranstaltung/smovey-ganzkoerpertraining/2023-10-18/
LOCATION:Turnsaal Kindergarten/Volksschule\, Wies 13\, Schattwald\, 6677\, Österreich
CATEGORIES:Sport
END:VEVENT
BEGIN:VEVENT
DTSTART;TZID=Europe/Vienna:20231023T170000
DTEND;TZID=Europe/Vienna:20231023T174500
DTSTAMP:20260424T173143
CREATED:20230502T070517Z
LAST-MODIFIED:20231009T055410Z
UID:10000010-1698080400-1698083100@www.gemeinde-schattwald.at
SUMMARY:Familien Yoga
DESCRIPTION:
URL:https://www.gemeinde-schattwald.at/veranstaltung/familien-yoga/2023-10-23/
LOCATION:Turnsaal Kindergarten/Volksschule\, Wies 13\, Schattwald\, 6677\, Österreich
CATEGORIES:Sport
END:VEVENT
BEGIN:VEVENT
DTSTART;TZID=Europe/Vienna:20231023T180000
DTEND;TZID=Europe/Vienna:20231023T190000
DTSTAMP:20260424T173143
CREATED:20230502T070733Z
LAST-MODIFIED:20231009T053759Z
UID:10000187-1698084000-1698087600@www.gemeinde-schattwald.at
SUMMARY:Yoga für Teenies und Erwachsene
DESCRIPTION:
URL:https://www.gemeinde-schattwald.at/veranstaltung/yoga-fuer-teenies-und-erwachsene/2023-10-23/
LOCATION:Turnsaal Kindergarten/Volksschule\, Wies 13\, Schattwald\, 6677\, Österreich
CATEGORIES:Sport
END:VEVENT
BEGIN:VEVENT
DTSTART;TZID=Europe/Vienna:20231024T180000
DTEND;TZID=Europe/Vienna:20231024T180000
DTSTAMP:20260424T173143
CREATED:20230502T071023Z
LAST-MODIFIED:20231009T060150Z
UID:10000195-1698170400-1698170400@www.gemeinde-schattwald.at
SUMMARY:Kinder Smovey ab 9 Jahren
DESCRIPTION:
URL:https://www.gemeinde-schattwald.at/veranstaltung/kinder-smovey-ab-9-jahren/2023-10-24/
LOCATION:Turnsaal Kindergarten/Volksschule\, Wies 13\, Schattwald\, 6677\, Österreich
CATEGORIES:Sport
END:VEVENT
BEGIN:VEVENT
DTSTART;TZID=Europe/Vienna:20231024T190000
DTEND;TZID=Europe/Vienna:20231024T194500
DTSTAMP:20260424T173143
CREATED:20230502T071522Z
LAST-MODIFIED:20231009T060224Z
UID:10000085-1698174000-1698176700@www.gemeinde-schattwald.at
SUMMARY:Smovey Ganzkörpertraining
DESCRIPTION:
URL:https://www.gemeinde-schattwald.at/veranstaltung/kinder-ganzkoerpertraining/2023-10-24/
LOCATION:Turnsaal Kindergarten/Volksschule\, Wies 13\, Schattwald\, 6677\, Österreich
CATEGORIES:Sport
END:VEVENT
BEGIN:VEVENT
DTSTART;TZID=Europe/Vienna:20231025T093000
DTEND;TZID=Europe/Vienna:20231025T101500
DTSTAMP:20260424T173143
CREATED:20230502T072005Z
LAST-MODIFIED:20231009T055932Z
UID:10000109-1698226200-1698228900@www.gemeinde-schattwald.at
SUMMARY:Smovey Ganzkörpertraining
DESCRIPTION:
URL:https://www.gemeinde-schattwald.at/veranstaltung/smovey-ganzkoerpertraining/2023-10-25/
LOCATION:Turnsaal Kindergarten/Volksschule\, Wies 13\, Schattwald\, 6677\, Österreich
CATEGORIES:Sport
END:VEVENT
BEGIN:VEVENT
DTSTART;TZID=Europe/Vienna:20231030T170000
DTEND;TZID=Europe/Vienna:20231030T174500
DTSTAMP:20260424T173143
CREATED:20230502T070517Z
LAST-MODIFIED:20231009T055410Z
UID:10000011-1698685200-1698687900@www.gemeinde-schattwald.at
SUMMARY:Familien Yoga
DESCRIPTION:
URL:https://www.gemeinde-schattwald.at/veranstaltung/familien-yoga/2023-10-30/
LOCATION:Turnsaal Kindergarten/Volksschule\, Wies 13\, Schattwald\, 6677\, Österreich
CATEGORIES:Sport
END:VEVENT
BEGIN:VEVENT
DTSTART;TZID=Europe/Vienna:20231030T180000
DTEND;TZID=Europe/Vienna:20231030T190000
DTSTAMP:20260424T173143
CREATED:20230502T070733Z
LAST-MODIFIED:20231009T053759Z
UID:10000188-1698688800-1698692400@www.gemeinde-schattwald.at
SUMMARY:Yoga für Teenies und Erwachsene
DESCRIPTION:
URL:https://www.gemeinde-schattwald.at/veranstaltung/yoga-fuer-teenies-und-erwachsene/2023-10-30/
LOCATION:Turnsaal Kindergarten/Volksschule\, Wies 13\, Schattwald\, 6677\, Österreich
CATEGORIES:Sport
END:VEVENT
BEGIN:VEVENT
DTSTART;TZID=Europe/Vienna:20231031T180000
DTEND;TZID=Europe/Vienna:20231031T180000
DTSTAMP:20260424T173143
CREATED:20230502T071023Z
LAST-MODIFIED:20231009T060150Z
UID:10000196-1698775200-1698775200@www.gemeinde-schattwald.at
SUMMARY:Kinder Smovey ab 9 Jahren
DESCRIPTION:
URL:https://www.gemeinde-schattwald.at/veranstaltung/kinder-smovey-ab-9-jahren/2023-10-31/
LOCATION:Turnsaal Kindergarten/Volksschule\, Wies 13\, Schattwald\, 6677\, Österreich
CATEGORIES:Sport
END:VEVENT
BEGIN:VEVENT
DTSTART;TZID=Europe/Vienna:20231031T190000
DTEND;TZID=Europe/Vienna:20231031T194500
DTSTAMP:20260424T173143
CREATED:20230502T071522Z
LAST-MODIFIED:20231009T060224Z
UID:10000086-1698778800-1698781500@www.gemeinde-schattwald.at
SUMMARY:Smovey Ganzkörpertraining
DESCRIPTION:
URL:https://www.gemeinde-schattwald.at/veranstaltung/kinder-ganzkoerpertraining/2023-10-31/
LOCATION:Turnsaal Kindergarten/Volksschule\, Wies 13\, Schattwald\, 6677\, Österreich
CATEGORIES:Sport
END:VEVENT
BEGIN:VEVENT
DTSTART;TZID=Europe/Vienna:20231101T093000
DTEND;TZID=Europe/Vienna:20231101T101500
DTSTAMP:20260424T173143
CREATED:20230502T072005Z
LAST-MODIFIED:20231009T055932Z
UID:10000110-1698831000-1698833700@www.gemeinde-schattwald.at
SUMMARY:Smovey Ganzkörpertraining
DESCRIPTION:
URL:https://www.gemeinde-schattwald.at/veranstaltung/smovey-ganzkoerpertraining/2023-11-01/
LOCATION:Turnsaal Kindergarten/Volksschule\, Wies 13\, Schattwald\, 6677\, Österreich
CATEGORIES:Sport
END:VEVENT
BEGIN:VEVENT
DTSTART;TZID=Europe/Vienna:20231106T170000
DTEND;TZID=Europe/Vienna:20231106T174500
DTSTAMP:20260424T173143
CREATED:20230502T070517Z
LAST-MODIFIED:20231009T055410Z
UID:10000012-1699290000-1699292700@www.gemeinde-schattwald.at
SUMMARY:Familien Yoga
DESCRIPTION:
URL:https://www.gemeinde-schattwald.at/veranstaltung/familien-yoga/2023-11-06/
LOCATION:Turnsaal Kindergarten/Volksschule\, Wies 13\, Schattwald\, 6677\, Österreich
CATEGORIES:Sport
END:VEVENT
BEGIN:VEVENT
DTSTART;TZID=Europe/Vienna:20231106T180000
DTEND;TZID=Europe/Vienna:20231106T190000
DTSTAMP:20260424T173143
CREATED:20230502T070733Z
LAST-MODIFIED:20231009T053759Z
UID:10000189-1699293600-1699297200@www.gemeinde-schattwald.at
SUMMARY:Yoga für Teenies und Erwachsene
DESCRIPTION:
URL:https://www.gemeinde-schattwald.at/veranstaltung/yoga-fuer-teenies-und-erwachsene/2023-11-06/
LOCATION:Turnsaal Kindergarten/Volksschule\, Wies 13\, Schattwald\, 6677\, Österreich
CATEGORIES:Sport
END:VEVENT
BEGIN:VEVENT
DTSTART;TZID=Europe/Vienna:20231107T180000
DTEND;TZID=Europe/Vienna:20231107T180000
DTSTAMP:20260424T173143
CREATED:20230502T071023Z
LAST-MODIFIED:20231009T060150Z
UID:10000197-1699380000-1699380000@www.gemeinde-schattwald.at
SUMMARY:Kinder Smovey ab 9 Jahren
DESCRIPTION:
URL:https://www.gemeinde-schattwald.at/veranstaltung/kinder-smovey-ab-9-jahren/2023-11-07/
LOCATION:Turnsaal Kindergarten/Volksschule\, Wies 13\, Schattwald\, 6677\, Österreich
CATEGORIES:Sport
END:VEVENT
BEGIN:VEVENT
DTSTART;TZID=Europe/Vienna:20231107T190000
DTEND;TZID=Europe/Vienna:20231107T194500
DTSTAMP:20260424T173143
CREATED:20230502T071522Z
LAST-MODIFIED:20231009T060224Z
UID:10000087-1699383600-1699386300@www.gemeinde-schattwald.at
SUMMARY:Smovey Ganzkörpertraining
DESCRIPTION:
URL:https://www.gemeinde-schattwald.at/veranstaltung/kinder-ganzkoerpertraining/2023-11-07/
LOCATION:Turnsaal Kindergarten/Volksschule\, Wies 13\, Schattwald\, 6677\, Österreich
CATEGORIES:Sport
END:VEVENT
BEGIN:VEVENT
DTSTART;TZID=Europe/Vienna:20231108T093000
DTEND;TZID=Europe/Vienna:20231108T101500
DTSTAMP:20260424T173143
CREATED:20230502T072005Z
LAST-MODIFIED:20231009T055932Z
UID:10000111-1699435800-1699438500@www.gemeinde-schattwald.at
SUMMARY:Smovey Ganzkörpertraining
DESCRIPTION:
URL:https://www.gemeinde-schattwald.at/veranstaltung/smovey-ganzkoerpertraining/2023-11-08/
LOCATION:Turnsaal Kindergarten/Volksschule\, Wies 13\, Schattwald\, 6677\, Österreich
CATEGORIES:Sport
END:VEVENT
BEGIN:VEVENT
DTSTART;TZID=Europe/Vienna:20231113T170000
DTEND;TZID=Europe/Vienna:20231113T174500
DTSTAMP:20260424T173143
CREATED:20230502T070517Z
LAST-MODIFIED:20231009T055410Z
UID:10000013-1699894800-1699897500@www.gemeinde-schattwald.at
SUMMARY:Familien Yoga
DESCRIPTION:
URL:https://www.gemeinde-schattwald.at/veranstaltung/familien-yoga/2023-11-13/
LOCATION:Turnsaal Kindergarten/Volksschule\, Wies 13\, Schattwald\, 6677\, Österreich
CATEGORIES:Sport
END:VEVENT
BEGIN:VEVENT
DTSTART;TZID=Europe/Vienna:20231113T180000
DTEND;TZID=Europe/Vienna:20231113T190000
DTSTAMP:20260424T173143
CREATED:20230502T070733Z
LAST-MODIFIED:20231009T053759Z
UID:10000190-1699898400-1699902000@www.gemeinde-schattwald.at
SUMMARY:Yoga für Teenies und Erwachsene
DESCRIPTION:
URL:https://www.gemeinde-schattwald.at/veranstaltung/yoga-fuer-teenies-und-erwachsene/2023-11-13/
LOCATION:Turnsaal Kindergarten/Volksschule\, Wies 13\, Schattwald\, 6677\, Österreich
CATEGORIES:Sport
END:VEVENT
BEGIN:VEVENT
DTSTART;TZID=Europe/Vienna:20231114T180000
DTEND;TZID=Europe/Vienna:20231114T180000
DTSTAMP:20260424T173143
CREATED:20230502T071023Z
LAST-MODIFIED:20231009T060150Z
UID:10000198-1699984800-1699984800@www.gemeinde-schattwald.at
SUMMARY:Kinder Smovey ab 9 Jahren
DESCRIPTION:
URL:https://www.gemeinde-schattwald.at/veranstaltung/kinder-smovey-ab-9-jahren/2023-11-14/
LOCATION:Turnsaal Kindergarten/Volksschule\, Wies 13\, Schattwald\, 6677\, Österreich
CATEGORIES:Sport
END:VEVENT
BEGIN:VEVENT
DTSTART;TZID=Europe/Vienna:20231114T190000
DTEND;TZID=Europe/Vienna:20231114T194500
DTSTAMP:20260424T173143
CREATED:20230502T071522Z
LAST-MODIFIED:20231009T060224Z
UID:10000088-1699988400-1699991100@www.gemeinde-schattwald.at
SUMMARY:Smovey Ganzkörpertraining
DESCRIPTION:
URL:https://www.gemeinde-schattwald.at/veranstaltung/kinder-ganzkoerpertraining/2023-11-14/
LOCATION:Turnsaal Kindergarten/Volksschule\, Wies 13\, Schattwald\, 6677\, Österreich
CATEGORIES:Sport
END:VEVENT
BEGIN:VEVENT
DTSTART;TZID=Europe/Vienna:20231115T093000
DTEND;TZID=Europe/Vienna:20231115T101500
DTSTAMP:20260424T173143
CREATED:20230502T072005Z
LAST-MODIFIED:20231009T055932Z
UID:10000112-1700040600-1700043300@www.gemeinde-schattwald.at
SUMMARY:Smovey Ganzkörpertraining
DESCRIPTION:
URL:https://www.gemeinde-schattwald.at/veranstaltung/smovey-ganzkoerpertraining/2023-11-15/
LOCATION:Turnsaal Kindergarten/Volksschule\, Wies 13\, Schattwald\, 6677\, Österreich
CATEGORIES:Sport
END:VEVENT
BEGIN:VEVENT
DTSTART;TZID=Europe/Vienna:20231120T170000
DTEND;TZID=Europe/Vienna:20231120T174500
DTSTAMP:20260424T173143
CREATED:20230502T070517Z
LAST-MODIFIED:20231009T055410Z
UID:10000014-1700499600-1700502300@www.gemeinde-schattwald.at
SUMMARY:Familien Yoga
DESCRIPTION:
URL:https://www.gemeinde-schattwald.at/veranstaltung/familien-yoga/2023-11-20/
LOCATION:Turnsaal Kindergarten/Volksschule\, Wies 13\, Schattwald\, 6677\, Österreich
CATEGORIES:Sport
END:VEVENT
BEGIN:VEVENT
DTSTART;TZID=Europe/Vienna:20231120T180000
DTEND;TZID=Europe/Vienna:20231120T190000
DTSTAMP:20260424T173143
CREATED:20230502T070733Z
LAST-MODIFIED:20231009T053759Z
UID:10000191-1700503200-1700506800@www.gemeinde-schattwald.at
SUMMARY:Yoga für Teenies und Erwachsene
DESCRIPTION:
URL:https://www.gemeinde-schattwald.at/veranstaltung/yoga-fuer-teenies-und-erwachsene/2023-11-20/
LOCATION:Turnsaal Kindergarten/Volksschule\, Wies 13\, Schattwald\, 6677\, Österreich
CATEGORIES:Sport
END:VEVENT
BEGIN:VEVENT
DTSTART;TZID=Europe/Vienna:20231121T180000
DTEND;TZID=Europe/Vienna:20231121T180000
DTSTAMP:20260424T173143
CREATED:20230502T071023Z
LAST-MODIFIED:20231009T060150Z
UID:10000199-1700589600-1700589600@www.gemeinde-schattwald.at
SUMMARY:Kinder Smovey ab 9 Jahren
DESCRIPTION:
URL:https://www.gemeinde-schattwald.at/veranstaltung/kinder-smovey-ab-9-jahren/2023-11-21/
LOCATION:Turnsaal Kindergarten/Volksschule\, Wies 13\, Schattwald\, 6677\, Österreich
CATEGORIES:Sport
END:VEVENT
BEGIN:VEVENT
DTSTART;TZID=Europe/Vienna:20231121T190000
DTEND;TZID=Europe/Vienna:20231121T194500
DTSTAMP:20260424T173143
CREATED:20230502T071522Z
LAST-MODIFIED:20231009T060224Z
UID:10000089-1700593200-1700595900@www.gemeinde-schattwald.at
SUMMARY:Smovey Ganzkörpertraining
DESCRIPTION:
URL:https://www.gemeinde-schattwald.at/veranstaltung/kinder-ganzkoerpertraining/2023-11-21/
LOCATION:Turnsaal Kindergarten/Volksschule\, Wies 13\, Schattwald\, 6677\, Österreich
CATEGORIES:Sport
END:VEVENT
BEGIN:VEVENT
DTSTART;TZID=Europe/Vienna:20231122T093000
DTEND;TZID=Europe/Vienna:20231122T101500
DTSTAMP:20260424T173143
CREATED:20230502T072005Z
LAST-MODIFIED:20231009T055932Z
UID:10000113-1700645400-1700648100@www.gemeinde-schattwald.at
SUMMARY:Smovey Ganzkörpertraining
DESCRIPTION:
URL:https://www.gemeinde-schattwald.at/veranstaltung/smovey-ganzkoerpertraining/2023-11-22/
LOCATION:Turnsaal Kindergarten/Volksschule\, Wies 13\, Schattwald\, 6677\, Österreich
CATEGORIES:Sport
END:VEVENT
BEGIN:VEVENT
DTSTART;TZID=Europe/Vienna:20231127T180000
DTEND;TZID=Europe/Vienna:20231127T190000
DTSTAMP:20260424T173143
CREATED:20230502T070733Z
LAST-MODIFIED:20231009T053759Z
UID:10000193-1701108000-1701111600@www.gemeinde-schattwald.at
SUMMARY:Yoga für Teenies und Erwachsene
DESCRIPTION:
URL:https://www.gemeinde-schattwald.at/veranstaltung/yoga-fuer-teenies-und-erwachsene/2023-11-27/
LOCATION:Turnsaal Kindergarten/Volksschule\, Wies 13\, Schattwald\, 6677\, Österreich
CATEGORIES:Sport
END:VEVENT
END:VCALENDAR