BEGIN:VCALENDAR
VERSION:2.0
PRODID:-//Gemeinde Schattwald - ECPv6.0.11//NONSGML v1.0//EN
CALSCALE:GREGORIAN
METHOD:PUBLISH
X-WR-CALNAME:Gemeinde Schattwald
X-ORIGINAL-URL:https://www.gemeinde-schattwald.at
X-WR-CALDESC:Veranstaltungen für Gemeinde Schattwald
REFRESH-INTERVAL;VALUE=DURATION:PT1H
X-Robots-Tag:noindex
X-PUBLISHED-TTL:PT1H
BEGIN:VTIMEZONE
TZID:Europe/Vienna
BEGIN:DAYLIGHT
TZOFFSETFROM:+0100
TZOFFSETTO:+0200
TZNAME:CEST
DTSTART:20230326T010000
END:DAYLIGHT
BEGIN:STANDARD
TZOFFSETFROM:+0200
TZOFFSETTO:+0100
TZNAME:CET
DTSTART:20231029T010000
END:STANDARD
BEGIN:DAYLIGHT
TZOFFSETFROM:+0100
TZOFFSETTO:+0200
TZNAME:CEST
DTSTART:20240331T010000
END:DAYLIGHT
BEGIN:STANDARD
TZOFFSETFROM:+0200
TZOFFSETTO:+0100
TZNAME:CET
DTSTART:20241027T010000
END:STANDARD
BEGIN:DAYLIGHT
TZOFFSETFROM:+0100
TZOFFSETTO:+0200
TZNAME:CEST
DTSTART:20250330T010000
END:DAYLIGHT
BEGIN:STANDARD
TZOFFSETFROM:+0200
TZOFFSETTO:+0100
TZNAME:CET
DTSTART:20251026T010000
END:STANDARD
END:VTIMEZONE
BEGIN:VEVENT
DTSTART;VALUE=DATE:20230625
DTEND;VALUE=DATE:20230627
DTSTAMP:20260424T114253
CREATED:20230613T095654Z
LAST-MODIFIED:20230613T095654Z
UID:10000116-1687662000-1687748399@www.gemeinde-schattwald.at
SUMMARY:Dorffest
DESCRIPTION:
URL:https://www.gemeinde-schattwald.at/veranstaltung/dorffest/
LOCATION:Pavillon\, Wies 13\, Schattwald\, 6677\, Österreich
CATEGORIES:Vereinsaktivität
ATTACH;FMTTYPE=image/svg+xml:https://www.gemeinde-schattwald.at/wp-content/uploads/2020/06/logo-schattwald.svg
END:VEVENT
BEGIN:VEVENT
DTSTART;TZID=Europe/Vienna:20230629T200000
DTEND;TZID=Europe/Vienna:20230629T213000
DTSTAMP:20260424T114253
CREATED:20230621T092559Z
LAST-MODIFIED:20230621T093205Z
UID:10000117-1688068800-1688074200@www.gemeinde-schattwald.at
SUMMARY:Platzkonzert der MK Schattwald
DESCRIPTION:Nur bei trockener Witterung. Für Speis und Trank wird bestens gesorgt. Die MK freut sich auf euren Besuch.
URL:https://www.gemeinde-schattwald.at/veranstaltung/platzkonzert/2023-06-29/
LOCATION:Pavillon\, Wies 13\, Schattwald\, 6677\, Österreich
END:VEVENT
BEGIN:VEVENT
DTSTART;TZID=Europe/Vienna:20230706T200000
DTEND;TZID=Europe/Vienna:20230706T213000
DTSTAMP:20260424T114253
CREATED:20230621T092559Z
LAST-MODIFIED:20230621T093205Z
UID:10000118-1688673600-1688679000@www.gemeinde-schattwald.at
SUMMARY:Platzkonzert der MK Schattwald
DESCRIPTION:Nur bei trockener Witterung. Für Speis und Trank wird bestens gesorgt. Die MK freut sich auf euren Besuch.
URL:https://www.gemeinde-schattwald.at/veranstaltung/platzkonzert/2023-07-06/
LOCATION:Pavillon\, Wies 13\, Schattwald\, 6677\, Österreich
END:VEVENT
BEGIN:VEVENT
DTSTART;TZID=Europe/Vienna:20230713T200000
DTEND;TZID=Europe/Vienna:20230713T213000
DTSTAMP:20260424T114253
CREATED:20230621T092559Z
LAST-MODIFIED:20230621T093205Z
UID:10000119-1689278400-1689283800@www.gemeinde-schattwald.at
SUMMARY:Platzkonzert der MK Schattwald
DESCRIPTION:Nur bei trockener Witterung. Für Speis und Trank wird bestens gesorgt. Die MK freut sich auf euren Besuch.
URL:https://www.gemeinde-schattwald.at/veranstaltung/platzkonzert/2023-07-13/
LOCATION:Pavillon\, Wies 13\, Schattwald\, 6677\, Österreich
END:VEVENT
BEGIN:VEVENT
DTSTART;TZID=Europe/Vienna:20230720T200000
DTEND;TZID=Europe/Vienna:20230720T213000
DTSTAMP:20260424T114253
CREATED:20230621T092559Z
LAST-MODIFIED:20230621T093205Z
UID:10000120-1689883200-1689888600@www.gemeinde-schattwald.at
SUMMARY:Platzkonzert der MK Schattwald
DESCRIPTION:Nur bei trockener Witterung. Für Speis und Trank wird bestens gesorgt. Die MK freut sich auf euren Besuch.
URL:https://www.gemeinde-schattwald.at/veranstaltung/platzkonzert/2023-07-20/
LOCATION:Pavillon\, Wies 13\, Schattwald\, 6677\, Österreich
END:VEVENT
BEGIN:VEVENT
DTSTART;TZID=Europe/Vienna:20230727T200000
DTEND;TZID=Europe/Vienna:20230727T213000
DTSTAMP:20260424T114253
CREATED:20230621T092559Z
LAST-MODIFIED:20230621T093205Z
UID:10000121-1690488000-1690493400@www.gemeinde-schattwald.at
SUMMARY:Platzkonzert der MK Schattwald
DESCRIPTION:Nur bei trockener Witterung. Für Speis und Trank wird bestens gesorgt. Die MK freut sich auf euren Besuch.
URL:https://www.gemeinde-schattwald.at/veranstaltung/platzkonzert/2023-07-27/
LOCATION:Pavillon\, Wies 13\, Schattwald\, 6677\, Österreich
END:VEVENT
BEGIN:VEVENT
DTSTART;TZID=Europe/Vienna:20230803T200000
DTEND;TZID=Europe/Vienna:20230803T213000
DTSTAMP:20260424T114253
CREATED:20230621T092559Z
LAST-MODIFIED:20230621T093205Z
UID:10000122-1691092800-1691098200@www.gemeinde-schattwald.at
SUMMARY:Platzkonzert der MK Schattwald
DESCRIPTION:Nur bei trockener Witterung. Für Speis und Trank wird bestens gesorgt. Die MK freut sich auf euren Besuch.
URL:https://www.gemeinde-schattwald.at/veranstaltung/platzkonzert/2023-08-03/
LOCATION:Pavillon\, Wies 13\, Schattwald\, 6677\, Österreich
END:VEVENT
BEGIN:VEVENT
DTSTART;TZID=Europe/Vienna:20230810T200000
DTEND;TZID=Europe/Vienna:20230810T213000
DTSTAMP:20260424T114253
CREATED:20230621T092559Z
LAST-MODIFIED:20230621T093205Z
UID:10000123-1691697600-1691703000@www.gemeinde-schattwald.at
SUMMARY:Platzkonzert der MK Schattwald
DESCRIPTION:Nur bei trockener Witterung. Für Speis und Trank wird bestens gesorgt. Die MK freut sich auf euren Besuch.
URL:https://www.gemeinde-schattwald.at/veranstaltung/platzkonzert/2023-08-10/
LOCATION:Pavillon\, Wies 13\, Schattwald\, 6677\, Österreich
END:VEVENT
BEGIN:VEVENT
DTSTART;TZID=Europe/Vienna:20230817T200000
DTEND;TZID=Europe/Vienna:20230817T213000
DTSTAMP:20260424T114253
CREATED:20230814T092301Z
LAST-MODIFIED:20230814T092301Z
UID:10000124-1692302400-1692307800@www.gemeinde-schattwald.at
SUMMARY:Platzkonzert der MK Schattwald
DESCRIPTION:Nur bei trockener Witterung. Für Speis und Trank wird bestens gesorgt. Die MK freut sich auf euren Besuch.
URL:https://www.gemeinde-schattwald.at/veranstaltung/platzkonzert-2/2023-08-17/
LOCATION:Pavillon\, Wies 13\, Schattwald\, 6677\, Österreich
END:VEVENT
BEGIN:VEVENT
DTSTART;TZID=Europe/Vienna:20230824T200000
DTEND;TZID=Europe/Vienna:20230824T213000
DTSTAMP:20260424T114253
CREATED:20230814T092301Z
LAST-MODIFIED:20230814T092301Z
UID:10000125-1692907200-1692912600@www.gemeinde-schattwald.at
SUMMARY:Platzkonzert der MK Schattwald
DESCRIPTION:Nur bei trockener Witterung. Für Speis und Trank wird bestens gesorgt. Die MK freut sich auf euren Besuch.
URL:https://www.gemeinde-schattwald.at/veranstaltung/platzkonzert-2/2023-08-24/
LOCATION:Pavillon\, Wies 13\, Schattwald\, 6677\, Österreich
END:VEVENT
BEGIN:VEVENT
DTSTART;TZID=Europe/Vienna:20230831T200000
DTEND;TZID=Europe/Vienna:20230831T213000
DTSTAMP:20260424T114253
CREATED:20230814T092301Z
LAST-MODIFIED:20230814T092301Z
UID:10000126-1693512000-1693517400@www.gemeinde-schattwald.at
SUMMARY:Platzkonzert der MK Schattwald
DESCRIPTION:Nur bei trockener Witterung. Für Speis und Trank wird bestens gesorgt. Die MK freut sich auf euren Besuch.
URL:https://www.gemeinde-schattwald.at/veranstaltung/platzkonzert-2/2023-08-31/
LOCATION:Pavillon\, Wies 13\, Schattwald\, 6677\, Österreich
END:VEVENT
BEGIN:VEVENT
DTSTART;TZID=Europe/Vienna:20231203T170000
DTEND;TZID=Europe/Vienna:20231203T230000
DTSTAMP:20260424T114253
CREATED:20231130T092832Z
LAST-MODIFIED:20231130T092832Z
UID:10000207-1701622800-1701644400@www.gemeinde-schattwald.at
SUMMARY:Glühweinstand
DESCRIPTION:Einladung_Glühweinstand
URL:https://www.gemeinde-schattwald.at/veranstaltung/gluehweinstand/
LOCATION:Pavillon\, Wies 13\, Schattwald\, 6677\, Österreich
END:VEVENT
BEGIN:VEVENT
DTSTART;TZID=Europe/Vienna:20231210T170000
DTEND;TZID=Europe/Vienna:20231210T230000
DTSTAMP:20260424T114253
CREATED:20231130T092914Z
LAST-MODIFIED:20231130T092914Z
UID:10000208-1702227600-1702249200@www.gemeinde-schattwald.at
SUMMARY:Glühweinstand
DESCRIPTION:Einladung_Glühweinstand
URL:https://www.gemeinde-schattwald.at/veranstaltung/gluehweinstand-2/
LOCATION:Pavillon\, Wies 13\, Schattwald\, 6677\, Österreich
END:VEVENT
BEGIN:VEVENT
DTSTART;TZID=Europe/Vienna:20231217T170000
DTEND;TZID=Europe/Vienna:20231217T230000
DTSTAMP:20260424T114253
CREATED:20231130T092939Z
LAST-MODIFIED:20231130T093107Z
UID:10000209-1702832400-1702854000@www.gemeinde-schattwald.at
SUMMARY:Glühweinstand
DESCRIPTION:Einladung_Glühweinstand
URL:https://www.gemeinde-schattwald.at/veranstaltung/gluehweinstand-3/
LOCATION:Pavillon\, Wies 13\, Schattwald\, 6677\, Österreich
END:VEVENT
BEGIN:VEVENT
DTSTART;TZID=Europe/Vienna:20231221T170000
DTEND;TZID=Europe/Vienna:20231221T230000
DTSTAMP:20260424T114253
CREATED:20231130T093017Z
LAST-MODIFIED:20231130T093017Z
UID:10000210-1703178000-1703199600@www.gemeinde-schattwald.at
SUMMARY:Glühweinstand
DESCRIPTION:Einladung_Glühweinstand
URL:https://www.gemeinde-schattwald.at/veranstaltung/gluehweinstand-4/
LOCATION:Pavillon\, Wies 13\, Schattwald\, 6677\, Österreich
END:VEVENT
BEGIN:VEVENT
DTSTART;VALUE=DATE:20240629
DTEND;VALUE=DATE:20240702
DTSTAMP:20260424T114253
CREATED:20240118T091157Z
LAST-MODIFIED:20240118T091157Z
UID:10000213-1719630000-1719802799@www.gemeinde-schattwald.at
SUMMARY:Dorffest der Vereine
DESCRIPTION:
URL:https://www.gemeinde-schattwald.at/veranstaltung/dorffest-der-vereine/
LOCATION:Pavillon\, Wies 13\, Schattwald\, 6677\, Österreich
END:VEVENT
BEGIN:VEVENT
DTSTART;TZID=Europe/Vienna:20240711T200000
DTEND;TZID=Europe/Vienna:20240711T213000
DTSTAMP:20260424T114253
CREATED:20240310T120514Z
LAST-MODIFIED:20240311T064004Z
UID:10000127-1720728000-1720733400@www.gemeinde-schattwald.at
SUMMARY:Platzkonzert der MK Schattwald
DESCRIPTION:Nur bei trockener Witterung. Für Speis und Trank wird bestens gesorgt. Die MK freut sich auf euren Besuch.
URL:https://www.gemeinde-schattwald.at/veranstaltung/platzkonzert-2-2/2024-07-11/
LOCATION:Pavillon\, Wies 13\, Schattwald\, 6677\, Österreich
CATEGORIES:Vereinsaktivität
END:VEVENT
BEGIN:VEVENT
DTSTART;TZID=Europe/Vienna:20240718T200000
DTEND;TZID=Europe/Vienna:20240718T213000
DTSTAMP:20260424T114253
CREATED:20240310T120514Z
LAST-MODIFIED:20240311T064004Z
UID:10000228-1721332800-1721338200@www.gemeinde-schattwald.at
SUMMARY:Platzkonzert der MK Schattwald
DESCRIPTION:Nur bei trockener Witterung. Für Speis und Trank wird bestens gesorgt. Die MK freut sich auf euren Besuch.
URL:https://www.gemeinde-schattwald.at/veranstaltung/platzkonzert-2-2/2024-07-18/
LOCATION:Pavillon\, Wies 13\, Schattwald\, 6677\, Österreich
CATEGORIES:Vereinsaktivität
END:VEVENT
BEGIN:VEVENT
DTSTART;TZID=Europe/Vienna:20240725T200000
DTEND;TZID=Europe/Vienna:20240725T213000
DTSTAMP:20260424T114253
CREATED:20240310T120514Z
LAST-MODIFIED:20240311T064004Z
UID:10000229-1721937600-1721943000@www.gemeinde-schattwald.at
SUMMARY:Platzkonzert der MK Schattwald
DESCRIPTION:Nur bei trockener Witterung. Für Speis und Trank wird bestens gesorgt. Die MK freut sich auf euren Besuch.
URL:https://www.gemeinde-schattwald.at/veranstaltung/platzkonzert-2-2/2024-07-25/
LOCATION:Pavillon\, Wies 13\, Schattwald\, 6677\, Österreich
CATEGORIES:Vereinsaktivität
END:VEVENT
BEGIN:VEVENT
DTSTART;TZID=Europe/Vienna:20240801T200000
DTEND;TZID=Europe/Vienna:20240801T213000
DTSTAMP:20260424T114253
CREATED:20240310T120514Z
LAST-MODIFIED:20240311T064004Z
UID:10000230-1722542400-1722547800@www.gemeinde-schattwald.at
SUMMARY:Platzkonzert der MK Schattwald
DESCRIPTION:Nur bei trockener Witterung. Für Speis und Trank wird bestens gesorgt. Die MK freut sich auf euren Besuch.
URL:https://www.gemeinde-schattwald.at/veranstaltung/platzkonzert-2-2/2024-08-01/
LOCATION:Pavillon\, Wies 13\, Schattwald\, 6677\, Österreich
CATEGORIES:Vereinsaktivität
END:VEVENT
BEGIN:VEVENT
DTSTART;TZID=Europe/Vienna:20240808T200000
DTEND;TZID=Europe/Vienna:20240808T213000
DTSTAMP:20260424T114253
CREATED:20240310T120514Z
LAST-MODIFIED:20240311T064004Z
UID:10000231-1723147200-1723152600@www.gemeinde-schattwald.at
SUMMARY:Platzkonzert der MK Schattwald
DESCRIPTION:Nur bei trockener Witterung. Für Speis und Trank wird bestens gesorgt. Die MK freut sich auf euren Besuch.
URL:https://www.gemeinde-schattwald.at/veranstaltung/platzkonzert-2-2/2024-08-08/
LOCATION:Pavillon\, Wies 13\, Schattwald\, 6677\, Österreich
CATEGORIES:Vereinsaktivität
END:VEVENT
BEGIN:VEVENT
DTSTART;TZID=Europe/Vienna:20240822T200000
DTEND;TZID=Europe/Vienna:20240822T213000
DTSTAMP:20260424T114253
CREATED:20240310T120514Z
LAST-MODIFIED:20240311T064004Z
UID:10000233-1724356800-1724362200@www.gemeinde-schattwald.at
SUMMARY:Platzkonzert der MK Schattwald
DESCRIPTION:Nur bei trockener Witterung. Für Speis und Trank wird bestens gesorgt. Die MK freut sich auf euren Besuch.
URL:https://www.gemeinde-schattwald.at/veranstaltung/platzkonzert-2-2/2024-08-22/
LOCATION:Pavillon\, Wies 13\, Schattwald\, 6677\, Österreich
CATEGORIES:Vereinsaktivität
END:VEVENT
BEGIN:VEVENT
DTSTART;TZID=Europe/Vienna:20240829T200000
DTEND;TZID=Europe/Vienna:20240829T213000
DTSTAMP:20260424T114253
CREATED:20240310T120514Z
LAST-MODIFIED:20240311T064004Z
UID:10000234-1724961600-1724967000@www.gemeinde-schattwald.at
SUMMARY:Platzkonzert der MK Schattwald
DESCRIPTION:Nur bei trockener Witterung. Für Speis und Trank wird bestens gesorgt. Die MK freut sich auf euren Besuch.
URL:https://www.gemeinde-schattwald.at/veranstaltung/platzkonzert-2-2/2024-08-29/
LOCATION:Pavillon\, Wies 13\, Schattwald\, 6677\, Österreich
CATEGORIES:Vereinsaktivität
END:VEVENT
BEGIN:VEVENT
DTSTART;TZID=Europe/Vienna:20240905T200000
DTEND;TZID=Europe/Vienna:20240905T213000
DTSTAMP:20260424T114253
CREATED:20240310T120514Z
LAST-MODIFIED:20240311T064004Z
UID:10000235-1725566400-1725571800@www.gemeinde-schattwald.at
SUMMARY:Platzkonzert der MK Schattwald
DESCRIPTION:Nur bei trockener Witterung. Für Speis und Trank wird bestens gesorgt. Die MK freut sich auf euren Besuch.
URL:https://www.gemeinde-schattwald.at/veranstaltung/platzkonzert-2-2/2024-09-05/
LOCATION:Pavillon\, Wies 13\, Schattwald\, 6677\, Österreich
CATEGORIES:Vereinsaktivität
END:VEVENT
BEGIN:VEVENT
DTSTART;TZID=Europe/Vienna:20240912T200000
DTEND;TZID=Europe/Vienna:20240912T213000
DTSTAMP:20260424T114253
CREATED:20240310T120514Z
LAST-MODIFIED:20240311T064004Z
UID:10000236-1726171200-1726176600@www.gemeinde-schattwald.at
SUMMARY:Platzkonzert der MK Schattwald
DESCRIPTION:Nur bei trockener Witterung. Für Speis und Trank wird bestens gesorgt. Die MK freut sich auf euren Besuch.
URL:https://www.gemeinde-schattwald.at/veranstaltung/platzkonzert-2-2/2024-09-12/
LOCATION:Pavillon\, Wies 13\, Schattwald\, 6677\, Österreich
CATEGORIES:Vereinsaktivität
END:VEVENT
BEGIN:VEVENT
DTSTART;TZID=Europe/Vienna:20250703T200000
DTEND;TZID=Europe/Vienna:20250703T213000
DTSTAMP:20260424T114253
CREATED:20250430T080616Z
LAST-MODIFIED:20250430T080616Z
UID:10000302-1751572800-1751578200@www.gemeinde-schattwald.at
SUMMARY:Platzkonzert Musikkapelle Schattwald
DESCRIPTION:
URL:https://www.gemeinde-schattwald.at/veranstaltung/platzkonzert-musikkapelle-schattwald/2025-07-03/
LOCATION:Pavillon\, Wies 13\, Schattwald\, 6677\, Österreich
END:VEVENT
BEGIN:VEVENT
DTSTART;TZID=Europe/Vienna:20250710T200000
DTEND;TZID=Europe/Vienna:20250710T213000
DTSTAMP:20260424T114253
CREATED:20250430T080616Z
LAST-MODIFIED:20250430T080616Z
UID:10000303-1752177600-1752183000@www.gemeinde-schattwald.at
SUMMARY:Platzkonzert Musikkapelle Schattwald
DESCRIPTION:
URL:https://www.gemeinde-schattwald.at/veranstaltung/platzkonzert-musikkapelle-schattwald/2025-07-10/
LOCATION:Pavillon\, Wies 13\, Schattwald\, 6677\, Österreich
END:VEVENT
BEGIN:VEVENT
DTSTART;TZID=Europe/Vienna:20250717T200000
DTEND;TZID=Europe/Vienna:20250717T213000
DTSTAMP:20260424T114253
CREATED:20250430T080616Z
LAST-MODIFIED:20250430T080616Z
UID:10000304-1752782400-1752787800@www.gemeinde-schattwald.at
SUMMARY:Platzkonzert Musikkapelle Schattwald
DESCRIPTION:
URL:https://www.gemeinde-schattwald.at/veranstaltung/platzkonzert-musikkapelle-schattwald/2025-07-17/
LOCATION:Pavillon\, Wies 13\, Schattwald\, 6677\, Österreich
END:VEVENT
BEGIN:VEVENT
DTSTART;TZID=Europe/Vienna:20250724T200000
DTEND;TZID=Europe/Vienna:20250724T213000
DTSTAMP:20260424T114253
CREATED:20250430T080616Z
LAST-MODIFIED:20250430T080616Z
UID:10000305-1753387200-1753392600@www.gemeinde-schattwald.at
SUMMARY:Platzkonzert Musikkapelle Schattwald
DESCRIPTION:
URL:https://www.gemeinde-schattwald.at/veranstaltung/platzkonzert-musikkapelle-schattwald/2025-07-24/
LOCATION:Pavillon\, Wies 13\, Schattwald\, 6677\, Österreich
END:VEVENT
BEGIN:VEVENT
DTSTART;TZID=Europe/Vienna:20250731T200000
DTEND;TZID=Europe/Vienna:20250731T213000
DTSTAMP:20260424T114253
CREATED:20250430T080616Z
LAST-MODIFIED:20250430T080616Z
UID:10000306-1753992000-1753997400@www.gemeinde-schattwald.at
SUMMARY:Platzkonzert Musikkapelle Schattwald
DESCRIPTION:
URL:https://www.gemeinde-schattwald.at/veranstaltung/platzkonzert-musikkapelle-schattwald/2025-07-31/
LOCATION:Pavillon\, Wies 13\, Schattwald\, 6677\, Österreich
END:VEVENT
END:VCALENDAR