BEGIN:VCALENDAR
VERSION:2.0
PRODID:-//Gemeinde Schattwald - ECPv6.0.11//NONSGML v1.0//EN
CALSCALE:GREGORIAN
METHOD:PUBLISH
X-ORIGINAL-URL:https://www.gemeinde-schattwald.at
X-WR-CALDESC:Veranstaltungen für Gemeinde Schattwald
REFRESH-INTERVAL;VALUE=DURATION:PT1H
X-Robots-Tag:noindex
X-PUBLISHED-TTL:PT1H
BEGIN:VTIMEZONE
TZID:Europe/Vienna
BEGIN:DAYLIGHT
TZOFFSETFROM:+0100
TZOFFSETTO:+0200
TZNAME:CEST
DTSTART:20250330T010000
END:DAYLIGHT
BEGIN:STANDARD
TZOFFSETFROM:+0200
TZOFFSETTO:+0100
TZNAME:CET
DTSTART:20251026T010000
END:STANDARD
END:VTIMEZONE
BEGIN:VEVENT
DTSTART;TZID=Europe/Vienna:20250807T200000
DTEND;TZID=Europe/Vienna:20250807T213000
DTSTAMP:20260424T174937
CREATED:20250430T080616Z
LAST-MODIFIED:20250430T080616Z
UID:10000307-1754596800-1754602200@www.gemeinde-schattwald.at
SUMMARY:Platzkonzert Musikkapelle Schattwald
DESCRIPTION:
URL:https://www.gemeinde-schattwald.at/veranstaltung/platzkonzert-musikkapelle-schattwald/2025-08-07/
LOCATION:Pavillon\, Wies 13\, Schattwald\, 6677\, Österreich
END:VEVENT
BEGIN:VEVENT
DTSTART;TZID=Europe/Vienna:20250814T200000
DTEND;TZID=Europe/Vienna:20250814T213000
DTSTAMP:20260424T174937
CREATED:20250430T080616Z
LAST-MODIFIED:20250430T080616Z
UID:10000308-1755201600-1755207000@www.gemeinde-schattwald.at
SUMMARY:Platzkonzert Musikkapelle Schattwald
DESCRIPTION:
URL:https://www.gemeinde-schattwald.at/veranstaltung/platzkonzert-musikkapelle-schattwald/2025-08-14/
LOCATION:Pavillon\, Wies 13\, Schattwald\, 6677\, Österreich
END:VEVENT
BEGIN:VEVENT
DTSTART;TZID=Europe/Vienna:20250821T200000
DTEND;TZID=Europe/Vienna:20250821T213000
DTSTAMP:20260424T174937
CREATED:20250430T080616Z
LAST-MODIFIED:20250430T080616Z
UID:10000309-1755806400-1755811800@www.gemeinde-schattwald.at
SUMMARY:Platzkonzert Musikkapelle Schattwald
DESCRIPTION:
URL:https://www.gemeinde-schattwald.at/veranstaltung/platzkonzert-musikkapelle-schattwald/2025-08-21/
LOCATION:Pavillon\, Wies 13\, Schattwald\, 6677\, Österreich
END:VEVENT
BEGIN:VEVENT
DTSTART;TZID=Europe/Vienna:20250828T200000
DTEND;TZID=Europe/Vienna:20250828T213000
DTSTAMP:20260424T174937
CREATED:20250430T080616Z
LAST-MODIFIED:20250430T080616Z
UID:10000310-1756411200-1756416600@www.gemeinde-schattwald.at
SUMMARY:Platzkonzert Musikkapelle Schattwald
DESCRIPTION:
URL:https://www.gemeinde-schattwald.at/veranstaltung/platzkonzert-musikkapelle-schattwald/2025-08-28/
LOCATION:Pavillon\, Wies 13\, Schattwald\, 6677\, Österreich
END:VEVENT
END:VCALENDAR