BEGIN:VCALENDAR
VERSION:2.0
PRODID:-//Gemeinde Schattwald - ECPv6.0.11//NONSGML v1.0//EN
CALSCALE:GREGORIAN
METHOD:PUBLISH
X-ORIGINAL-URL:https://www.gemeinde-schattwald.at
X-WR-CALDESC:Veranstaltungen für Gemeinde Schattwald
REFRESH-INTERVAL;VALUE=DURATION:PT1H
X-Robots-Tag:noindex
X-PUBLISHED-TTL:PT1H
BEGIN:VTIMEZONE
TZID:Europe/Vienna
BEGIN:DAYLIGHT
TZOFFSETFROM:+0100
TZOFFSETTO:+0200
TZNAME:CEST
DTSTART:20260329T010000
END:DAYLIGHT
BEGIN:STANDARD
TZOFFSETFROM:+0200
TZOFFSETTO:+0100
TZNAME:CET
DTSTART:20261025T010000
END:STANDARD
END:VTIMEZONE
BEGIN:VEVENT
DTSTART;TZID=Europe/Vienna:20260718T190000
DTEND;TZID=Europe/Vienna:20260719T040000
DTSTAMP:20260424T084842
CREATED:20260203T205846Z
LAST-MODIFIED:20260412T185443Z
UID:10000315-1784401200-1784433600@www.gemeinde-schattwald.at
SUMMARY:Floschenfete
DESCRIPTION:
URL:https://www.gemeinde-schattwald.at/veranstaltung/floschenfete-4/
LOCATION:Moorweiher Floschen\, Schattwald\, 6677\, Österreich
END:VEVENT
BEGIN:VEVENT
DTSTART;VALUE=DATE:20260801
DTEND;VALUE=DATE:20260803
DTSTAMP:20260424T084842
CREATED:20260203T205634Z
LAST-MODIFIED:20260412T185559Z
UID:10000314-1785553200-1785639599@www.gemeinde-schattwald.at
SUMMARY:2. Völkerballturnier der LJ Schattwald
DESCRIPTION:
URL:https://www.gemeinde-schattwald.at/veranstaltung/2-voelkerballturnier-der-lj-schattwald/
LOCATION:Fußballplatz\, Schattwald\, 6677\, Österreich
CATEGORIES:Sport,Vereinsaktivität
END:VEVENT
END:VCALENDAR