BEGIN:VCALENDAR
VERSION:2.0
PRODID:-//Gemeinde Schattwald - ECPv6.0.11//NONSGML v1.0//EN
CALSCALE:GREGORIAN
METHOD:PUBLISH
X-ORIGINAL-URL:https://www.gemeinde-schattwald.at
X-WR-CALDESC:Veranstaltungen für Gemeinde Schattwald
REFRESH-INTERVAL;VALUE=DURATION:PT1H
X-Robots-Tag:noindex
X-PUBLISHED-TTL:PT1H
BEGIN:VTIMEZONE
TZID:Europe/Vienna
BEGIN:DAYLIGHT
TZOFFSETFROM:+0100
TZOFFSETTO:+0200
TZNAME:CEST
DTSTART:20230326T010000
END:DAYLIGHT
BEGIN:STANDARD
TZOFFSETFROM:+0200
TZOFFSETTO:+0100
TZNAME:CET
DTSTART:20231029T010000
END:STANDARD
BEGIN:DAYLIGHT
TZOFFSETFROM:+0100
TZOFFSETTO:+0200
TZNAME:CEST
DTSTART:20240331T010000
END:DAYLIGHT
BEGIN:STANDARD
TZOFFSETFROM:+0200
TZOFFSETTO:+0100
TZNAME:CET
DTSTART:20241027T010000
END:STANDARD
BEGIN:DAYLIGHT
TZOFFSETFROM:+0100
TZOFFSETTO:+0200
TZNAME:CEST
DTSTART:20250330T010000
END:DAYLIGHT
BEGIN:STANDARD
TZOFFSETFROM:+0200
TZOFFSETTO:+0100
TZNAME:CET
DTSTART:20251026T010000
END:STANDARD
BEGIN:DAYLIGHT
TZOFFSETFROM:+0100
TZOFFSETTO:+0200
TZNAME:CEST
DTSTART:20260329T010000
END:DAYLIGHT
BEGIN:STANDARD
TZOFFSETFROM:+0200
TZOFFSETTO:+0100
TZNAME:CET
DTSTART:20261025T010000
END:STANDARD
END:VTIMEZONE
BEGIN:VEVENT
DTSTART;TZID=Europe/Vienna:20260214T130000
DTEND;TZID=Europe/Vienna:20260214T160000
DTSTAMP:20260424T101239
CREATED:20260203T205244Z
LAST-MODIFIED:20260203T205244Z
UID:10000313-1771074000-1771084800@www.gemeinde-schattwald.at
SUMMARY:Einladung zum Kinderfasching
DESCRIPTION:
URL:https://www.gemeinde-schattwald.at/veranstaltung/einladung-zum-kinderfasching/
LOCATION:Gemeindesaal Schattwald\, Schattwald 41\, Schattwald\, 6677\, Österreich
CATEGORIES:Kultur,Vereinsaktivität
ATTACH;FMTTYPE=image/jpeg:https://www.gemeinde-schattwald.at/wp-content/uploads/2026/02/Kinderfasching.jpg
END:VEVENT
BEGIN:VEVENT
DTSTART;VALUE=DATE:20250705
DTEND;VALUE=DATE:20250707
DTSTAMP:20260424T101239
CREATED:20250123T162745Z
LAST-MODIFIED:20250123T162745Z
UID:10000301-1751684400-1751770799@www.gemeinde-schattwald.at
SUMMARY:Völkerballturnier
DESCRIPTION:Gespielt wird in 5er Teams (4+Freigeist)! Mehr Infos folgen in Kürze!
URL:https://www.gemeinde-schattwald.at/veranstaltung/voelkerballturnier/
LOCATION:Fußballplatz\, Schattwald\, 6677\, Österreich
END:VEVENT
BEGIN:VEVENT
DTSTART;TZID=Europe/Vienna:20250301T130000
DTEND;TZID=Europe/Vienna:20250301T160000
DTSTAMP:20260424T101239
CREATED:20250123T162552Z
LAST-MODIFIED:20250123T162552Z
UID:10000300-1740834000-1740844800@www.gemeinde-schattwald.at
SUMMARY:Kinderfasching
DESCRIPTION:
URL:https://www.gemeinde-schattwald.at/veranstaltung/kinderfasching-2/
LOCATION:Gemeindesaal Schattwald\, Schattwald 41\, Schattwald\, 6677\, Österreich
END:VEVENT
BEGIN:VEVENT
DTSTART;TZID=Europe/Vienna:20240803T190000
DTEND;TZID=Europe/Vienna:20240803T233000
DTSTAMP:20260424T101239
CREATED:20240608T185958Z
LAST-MODIFIED:20240608T185958Z
UID:10000262-1722711600-1722727800@www.gemeinde-schattwald.at
SUMMARY:Floschenfete
DESCRIPTION:Wir freuen uns auf viele BesucherInnen! 🙂
URL:https://www.gemeinde-schattwald.at/veranstaltung/floschenfete-3/
LOCATION:Moorweiher Floschen\, Schattwald\, 6677\, Österreich
ATTACH;FMTTYPE=image/png:https://www.gemeinde-schattwald.at/wp-content/uploads/2024/06/FLOSCHEN-FETE-1.png
END:VEVENT
BEGIN:VEVENT
DTSTART;TZID=Europe/Vienna:20240203T130000
DTEND;TZID=Europe/Vienna:20240203T160000
DTSTAMP:20260424T101239
CREATED:20240120T144644Z
LAST-MODIFIED:20240122T180217Z
UID:10000215-1706965200-1706976000@www.gemeinde-schattwald.at
SUMMARY:Kinderfasching
DESCRIPTION:
URL:https://www.gemeinde-schattwald.at/veranstaltung/kinderfasching/
LOCATION:Gemeindesaal Schattwald\, Schattwald 41\, Schattwald\, 6677\, Österreich
CATEGORIES:Vereinsaktivität
ATTACH;FMTTYPE=image/png:https://www.gemeinde-schattwald.at/wp-content/uploads/2024/01/Kinderfasching-1-1.png
END:VEVENT
BEGIN:VEVENT
DTSTART;TZID=Europe/Vienna:20230729T180000
DTEND;TZID=Europe/Vienna:20230730T043000
DTSTAMP:20260424T101239
CREATED:20230724T102303Z
LAST-MODIFIED:20230724T102303Z
UID:10000180-1690653600-1690691400@www.gemeinde-schattwald.at
SUMMARY:Floschenfete
DESCRIPTION: 
URL:https://www.gemeinde-schattwald.at/veranstaltung/floschenfete-2/
LOCATION:Moorweiher Floschen\, Schattwald\, 6677\, Österreich
CATEGORIES:Kultur
ATTACH;FMTTYPE=image/jpeg:https://www.gemeinde-schattwald.at/wp-content/uploads/2023/07/B9779626-05CD-4028-90E3-2A9DE35A7DC1.jpeg
END:VEVENT
END:VCALENDAR