BEGIN:VCALENDAR
VERSION:2.0
PRODID:-//Gemeinde Schattwald - ECPv6.0.11//NONSGML v1.0//EN
CALSCALE:GREGORIAN
METHOD:PUBLISH
X-WR-CALNAME:Gemeinde Schattwald
X-ORIGINAL-URL:https://www.gemeinde-schattwald.at
X-WR-CALDESC:Veranstaltungen für Gemeinde Schattwald
REFRESH-INTERVAL;VALUE=DURATION:PT1H
X-Robots-Tag:noindex
X-PUBLISHED-TTL:PT1H
BEGIN:VTIMEZONE
TZID:Europe/Vienna
BEGIN:DAYLIGHT
TZOFFSETFROM:+0100
TZOFFSETTO:+0200
TZNAME:CEST
DTSTART:20230326T010000
END:DAYLIGHT
BEGIN:STANDARD
TZOFFSETFROM:+0200
TZOFFSETTO:+0100
TZNAME:CET
DTSTART:20231029T010000
END:STANDARD
END:VTIMEZONE
BEGIN:VEVENT
DTSTART;TZID=Europe/Vienna:20230919T190000
DTEND;TZID=Europe/Vienna:20230919T194500
DTSTAMP:20260424T230056
CREATED:20230502T071522Z
LAST-MODIFIED:20231009T060224Z
UID:10000080-1695150000-1695152700@www.gemeinde-schattwald.at
SUMMARY:Smovey Ganzkörpertraining
DESCRIPTION:
URL:https://www.gemeinde-schattwald.at/veranstaltung/kinder-ganzkoerpertraining/2023-09-19/
LOCATION:Turnsaal Kindergarten/Volksschule\, Wies 13\, Schattwald\, 6677\, Österreich
CATEGORIES:Sport
END:VEVENT
BEGIN:VEVENT
DTSTART;TZID=Europe/Vienna:20230919T180000
DTEND;TZID=Europe/Vienna:20230919T180000
DTSTAMP:20260424T230056
CREATED:20230502T071023Z
LAST-MODIFIED:20231009T060150Z
UID:10000056-1695146400-1695146400@www.gemeinde-schattwald.at
SUMMARY:Kinder Smovey ab 9 Jahren
DESCRIPTION:
URL:https://www.gemeinde-schattwald.at/veranstaltung/kinder-smovey-ab-9-jahren/2023-09-19/
LOCATION:Turnsaal Kindergarten/Volksschule\, Wies 13\, Schattwald\, 6677\, Österreich
CATEGORIES:Sport
END:VEVENT
BEGIN:VEVENT
DTSTART;TZID=Europe/Vienna:20230918T180000
DTEND;TZID=Europe/Vienna:20230918T190000
DTSTAMP:20260424T230056
CREATED:20230502T070733Z
LAST-MODIFIED:20231009T053759Z
UID:10000182-1695060000-1695063600@www.gemeinde-schattwald.at
SUMMARY:Yoga für Teenies und Erwachsene
DESCRIPTION:
URL:https://www.gemeinde-schattwald.at/veranstaltung/yoga-fuer-teenies-und-erwachsene/2023-09-18/
LOCATION:Turnsaal Kindergarten/Volksschule\, Wies 13\, Schattwald\, 6677\, Österreich
CATEGORIES:Sport
END:VEVENT
BEGIN:VEVENT
DTSTART;TZID=Europe/Vienna:20230918T170000
DTEND;TZID=Europe/Vienna:20230918T174500
DTSTAMP:20260424T230056
CREATED:20230502T070517Z
LAST-MODIFIED:20231009T055410Z
UID:10000005-1695056400-1695059100@www.gemeinde-schattwald.at
SUMMARY:Familien Yoga
DESCRIPTION:
URL:https://www.gemeinde-schattwald.at/veranstaltung/familien-yoga/2023-09-18/
LOCATION:Turnsaal Kindergarten/Volksschule\, Wies 13\, Schattwald\, 6677\, Österreich
CATEGORIES:Sport
END:VEVENT
BEGIN:VEVENT
DTSTART;TZID=Europe/Vienna:20230913T093000
DTEND;TZID=Europe/Vienna:20230913T101500
DTSTAMP:20260424T230056
CREATED:20230502T072005Z
LAST-MODIFIED:20231009T055932Z
UID:10000103-1694597400-1694600100@www.gemeinde-schattwald.at
SUMMARY:Smovey Ganzkörpertraining
DESCRIPTION:
URL:https://www.gemeinde-schattwald.at/veranstaltung/smovey-ganzkoerpertraining/2023-09-13/
LOCATION:Turnsaal Kindergarten/Volksschule\, Wies 13\, Schattwald\, 6677\, Österreich
CATEGORIES:Sport
END:VEVENT
BEGIN:VEVENT
DTSTART;TZID=Europe/Vienna:20230912T190000
DTEND;TZID=Europe/Vienna:20230912T194500
DTSTAMP:20260424T230056
CREATED:20230502T071522Z
LAST-MODIFIED:20231009T060224Z
UID:10000079-1694545200-1694547900@www.gemeinde-schattwald.at
SUMMARY:Smovey Ganzkörpertraining
DESCRIPTION:
URL:https://www.gemeinde-schattwald.at/veranstaltung/kinder-ganzkoerpertraining/2023-09-12/
LOCATION:Turnsaal Kindergarten/Volksschule\, Wies 13\, Schattwald\, 6677\, Österreich
CATEGORIES:Sport
END:VEVENT
BEGIN:VEVENT
DTSTART;TZID=Europe/Vienna:20230912T180000
DTEND;TZID=Europe/Vienna:20230912T180000
DTSTAMP:20260424T230056
CREATED:20230502T071023Z
LAST-MODIFIED:20231009T060150Z
UID:10000055-1694541600-1694541600@www.gemeinde-schattwald.at
SUMMARY:Kinder Smovey ab 9 Jahren
DESCRIPTION:
URL:https://www.gemeinde-schattwald.at/veranstaltung/kinder-smovey-ab-9-jahren/2023-09-12/
LOCATION:Turnsaal Kindergarten/Volksschule\, Wies 13\, Schattwald\, 6677\, Österreich
CATEGORIES:Sport
END:VEVENT
BEGIN:VEVENT
DTSTART;TZID=Europe/Vienna:20230624T100000
DTEND;TZID=Europe/Vienna:20230624T170000
DTSTAMP:20260424T230056
CREATED:20230522T082548Z
LAST-MODIFIED:20230613T095751Z
UID:10000115-1687600800-1687626000@www.gemeinde-schattwald.at
SUMMARY:1. Völkerballtag
DESCRIPTION:Völkerballtag
URL:https://www.gemeinde-schattwald.at/veranstaltung/1-voelkerballtag/
LOCATION:Fußballplatz\, Schattwald\, 6677\, Österreich
ATTACH;FMTTYPE=image/jpeg:https://www.gemeinde-schattwald.at/wp-content/uploads/2023/04/46ee5540-93c7-4a31-9a9f-6e2155a2bf8a.jpg
END:VEVENT
END:VCALENDAR